BEGIN:VCALENDAR
VERSION:2.0
PRODID:-//The Local Seen - ECPv6.6.4.2//NONSGML v1.0//EN
CALSCALE:GREGORIAN
METHOD:PUBLISH
X-WR-CALNAME:The Local Seen
X-ORIGINAL-URL:https://thelocalseen.media
X-WR-CALDESC:Events for The Local Seen
REFRESH-INTERVAL;VALUE=DURATION:PT1H
X-Robots-Tag:noindex
X-PUBLISHED-TTL:PT1H
BEGIN:VTIMEZONE
TZID:America/New_York
BEGIN:DAYLIGHT
TZOFFSETFROM:-0500
TZOFFSETTO:-0400
TZNAME:EDT
DTSTART:20250309T070000
END:DAYLIGHT
BEGIN:STANDARD
TZOFFSETFROM:-0400
TZOFFSETTO:-0500
TZNAME:EST
DTSTART:20251102T060000
END:STANDARD
END:VTIMEZONE
BEGIN:VEVENT
DTSTART;TZID=America/New_York:20251019T110000
DTEND;TZID=America/New_York:20251019T143000
DTSTAMP:20260421T132148
CREATED:20251002T161431Z
LAST-MODIFIED:20251002T161431Z
UID:10003242-1760871600-1760884200@thelocalseen.media
SUMMARY:Trunk or Treat Event at the Pembroke Community Center
DESCRIPTION:
URL:https://thelocalseen.media/event/trunk-or-treat-event-at-the-pembroke-community-center/
LOCATION:Pembroke Community Center\, 128 Center St\, Pembroke\, 02359\, United States
CATEGORIES:Holiday,Kids
END:VEVENT
BEGIN:VEVENT
DTSTART;TZID=America/New_York:20251023T160000
DTEND;TZID=America/New_York:20251023T173000
DTSTAMP:20260421T132148
CREATED:20251007T202201Z
LAST-MODIFIED:20251007T202201Z
UID:10003264-1761235200-1761240600@thelocalseen.media
SUMMARY:BOOtacular Candy & Costumes at The Pembroke Public Library
DESCRIPTION:
URL:https://thelocalseen.media/event/bootacular-candy-costumes-at-the-pembroke-public-library/
LOCATION:Pembroke Public Library\, 142 Center St\, Pembroke\, MA\, 02359\, United States
CATEGORIES:Holiday,Kids
END:VEVENT
BEGIN:VEVENT
DTSTART;TZID=America/New_York:20251024T160000
DTEND;TZID=America/New_York:20251024T190000
DTSTAMP:20260421T132148
CREATED:20251021T175615Z
LAST-MODIFIED:20251021T175615Z
UID:10003312-1761321600-1761332400@thelocalseen.media
SUMMARY:Book & Treat at Kingston Public Library
DESCRIPTION:
URL:https://thelocalseen.media/event/book-treat-at-kingston-public-library/
LOCATION:Reading Community Building\, 33A Summer Street\, Kingston\, MA\, United States
CATEGORIES:Holiday,Kids
END:VEVENT
BEGIN:VEVENT
DTSTART;TZID=America/New_York:20251024T183000
DTEND;TZID=America/New_York:20251024T193000
DTSTAMP:20260421T132148
CREATED:20251021T173007Z
LAST-MODIFIED:20251021T173007Z
UID:10003309-1761330600-1761334200@thelocalseen.media
SUMMARY:Halloween Fun Fest at Duxbury Rec Department
DESCRIPTION:
URL:https://thelocalseen.media/event/halloween-fun-fest-at-duxbury-rec-department/
LOCATION:Chandler Elementary School\, 93 Chandler Street\, Duxbury\, MA\, United States
CATEGORIES:Holiday
END:VEVENT
BEGIN:VEVENT
DTSTART;TZID=America/New_York:20251024T190000
DTEND;TZID=America/New_York:20251024T203000
DTSTAMP:20260421T132148
CREATED:20250929T171732Z
LAST-MODIFIED:20250929T171732Z
UID:10003240-1761332400-1761337800@thelocalseen.media
SUMMARY:5th Murder\, Mystery and Mayham tour Spirit of Plymouth
DESCRIPTION:Tickets available at www.spiritofplymouth.com or on Eventbrite \nAdults – $35 / Seniors $30 \nDare to Discover the Darker Side of Plymouth… \nJoin us for an unforgettable night as we uncover the hidden horrors of Plymouth’s shadowy past. Your guide will lead you through narrow alleyways and ancient streets\, sharing tales of grisly murders\, witches\, curses\, restless spirits\, and other unspeakable happenings that time tried to forget. \nBut beware… you won’t be alone. Brilliant actors will bring terrifying tales to life right before your eyes\, and The Grim Reaper himself will stalk the group\, searching for souls ready to collect. \nAt the end of our journey\, you must decide: Which stories were true? Which were twisted legends or outright lies? \nThose who can separate fact from fearsome fiction will earn a small prize—and eternal bragging rights
URL:https://thelocalseen.media/event/5th-murder-mystery-and-mayham-tour-spirit-of-plymouth/
LOCATION:Spirit of Plymouth\, 1 Cordage Terrace Ext\, Plymouth\, MA\, 02360\, United States
CATEGORIES:History,Holiday
END:VEVENT
BEGIN:VEVENT
DTSTART;TZID=America/New_York:20251025T150000
DTEND;TZID=America/New_York:20251025T150000
DTSTAMP:20260421T132148
CREATED:20251007T202805Z
LAST-MODIFIED:20251007T202805Z
UID:10003266-1761404400-1761404400@thelocalseen.media
SUMMARY:Pumpkin Painting with Plymouth Pride at Plymouth Public Library
DESCRIPTION:
URL:https://thelocalseen.media/event/pumpkin-painting-with-plymouth-pride-at-plymouth-public-library/
LOCATION:Plymouth Public Library\, 132 South St\, Plymouth\, 02360\, United States
CATEGORIES:Holiday,Kids
END:VEVENT
BEGIN:VEVENT
DTSTART;TZID=America/New_York:20251025T190000
DTEND;TZID=America/New_York:20251025T203000
DTSTAMP:20260421T132148
CREATED:20250929T171804Z
LAST-MODIFIED:20250929T171804Z
UID:10003241-1761418800-1761424200@thelocalseen.media
SUMMARY:5th Murder\, Mystery and Mayham tour Spirit of Plymouth
DESCRIPTION:Tickets available at www.spiritofplymouth.com or on Eventbrite \nAdults – $35 / Seniors $30 \nDare to Discover the Darker Side of Plymouth… \nJoin us for an unforgettable night as we uncover the hidden horrors of Plymouth’s shadowy past. Your guide will lead you through narrow alleyways and ancient streets\, sharing tales of grisly murders\, witches\, curses\, restless spirits\, and other unspeakable happenings that time tried to forget. \nBut beware… you won’t be alone. Brilliant actors will bring terrifying tales to life right before your eyes\, and The Grim Reaper himself will stalk the group\, searching for souls ready to collect. \nAt the end of our journey\, you must decide: Which stories were true? Which were twisted legends or outright lies? \nThose who can separate fact from fearsome fiction will earn a small prize—and eternal bragging rights
URL:https://thelocalseen.media/event/5th-murder-mystery-and-mayham-tour-spirit-of-plymouth-2/
LOCATION:Spirit of Plymouth\, 1 Cordage Terrace Ext\, Plymouth\, MA\, 02360\, United States
CATEGORIES:History,Holiday
END:VEVENT
BEGIN:VEVENT
DTSTART;TZID=America/New_York:20251029T120000
DTEND;TZID=America/New_York:20251029T120000
DTSTAMP:20260421T132148
CREATED:20251021T165757Z
LAST-MODIFIED:20251021T165757Z
UID:10003307-1761739200-1761739200@thelocalseen.media
SUMMARY:Pembroke Senior Services Halloween Party
DESCRIPTION:
URL:https://thelocalseen.media/event/pembroke-senior-services-halloween-party/
LOCATION:Pembroke Senior Services\, 128 Center Street\, Pembroke\, MA
CATEGORIES:Holiday,Seniors
END:VEVENT
BEGIN:VEVENT
DTSTART;TZID=America/New_York:20251112T173000
DTEND;TZID=America/New_York:20251112T190000
DTSTAMP:20260421T132148
CREATED:20251103T214515Z
LAST-MODIFIED:20251103T214515Z
UID:10003317-1762968600-1762974000@thelocalseen.media
SUMMARY:Resistance & Resilience with Author Larry Tye at Plymouth Public Library
DESCRIPTION:
URL:https://thelocalseen.media/event/resistance-resilience-with-author-larry-tye-at-plymouth-public-library/
LOCATION:Plymouth Public Library\, 132 South St\, Plymouth\, 02360\, United States
CATEGORIES:Holiday
END:VEVENT
BEGIN:VEVENT
DTSTART;TZID=America/New_York:20251119T120000
DTEND;TZID=America/New_York:20251119T130000
DTSTAMP:20260421T132148
CREATED:20251103T213626Z
LAST-MODIFIED:20251103T213626Z
UID:10003314-1763553600-1763557200@thelocalseen.media
SUMMARY:Thanksgiving Luncheon at Pembroke Senior Services
DESCRIPTION:
URL:https://thelocalseen.media/event/thanksgiving-luncheon-at-pembroke-senior-services/
LOCATION:Pembroke Senior Services\, 128 Center Street\, Pembroke\, MA
CATEGORIES:Holiday,Seniors
END:VEVENT
BEGIN:VEVENT
DTSTART;TZID=America/New_York:20251120T113000
DTEND;TZID=America/New_York:20251120T113000
DTSTAMP:20260421T132148
CREATED:20251113T220831Z
LAST-MODIFIED:20251113T220831Z
UID:10003343-1763638200-1763638200@thelocalseen.media
SUMMARY:Thanksgiving Luncheon at Kingston Council on Aging
DESCRIPTION:
URL:https://thelocalseen.media/event/thanksgiving-luncheon-at-kingston-council-on-aging/
LOCATION:Kingston Council on Aging\, 30 Evergreen St\, Kingston\, MA\, 02364\, United States
CATEGORIES:Food,Holiday
END:VEVENT
BEGIN:VEVENT
DTSTART;TZID=America/New_York:20251122T090000
DTEND;TZID=America/New_York:20251122T120000
DTSTAMP:20260421T132148
CREATED:20251117T231653Z
LAST-MODIFIED:20251117T231653Z
UID:10003360-1763802000-1763812800@thelocalseen.media
SUMMARY:America's Hometown Thanksgiving Day Parade
DESCRIPTION:
URL:https://thelocalseen.media/event/americas-hometown-thanksgiving-day-parade/
LOCATION:Main St\, Downtown Plymouth
CATEGORIES:Holiday
END:VEVENT
BEGIN:VEVENT
DTSTART;VALUE=DATE:20251128
DTEND;VALUE=DATE:20251129
DTSTAMP:20260421T132148
CREATED:20251113T214208Z
LAST-MODIFIED:20251113T214208Z
UID:10003339-1764288000-1764374399@thelocalseen.media
SUMMARY:The Story of Thanksgiving Dinner
DESCRIPTION:
URL:https://thelocalseen.media/event/the-story-of-thanksgiving-dinner/
LOCATION:Plimoth Patuxet Museums\, 137 Warren Ave\, Plymouth\, MA\, United States
CATEGORIES:Holiday
END:VEVENT
BEGIN:VEVENT
DTSTART;TZID=America/New_York:20251129T100000
DTEND;TZID=America/New_York:20251129T170000
DTSTAMP:20260421T132148
CREATED:20251117T153425Z
LAST-MODIFIED:20251117T155351Z
UID:10003357-1764410400-1764435600@thelocalseen.media
SUMMARY:Holiday Market at Redbrook
DESCRIPTION:
URL:https://thelocalseen.media/event/holiday-market-at-redbrook/
LOCATION:Meeting House\, 1 Greenside Way\, North Plymouth\, MA\, 02360
CATEGORIES:Holiday,Shopping
END:VEVENT
BEGIN:VEVENT
DTSTART;TZID=America/New_York:20251130T120000
DTEND;TZID=America/New_York:20251130T170000
DTSTAMP:20260421T132148
CREATED:20251124T172105Z
LAST-MODIFIED:20251124T172429Z
UID:10003376-1764504000-1764522000@thelocalseen.media
SUMMARY:Plymouth Punk Rock Xmas Market
DESCRIPTION:
URL:https://thelocalseen.media/event/plymouth-punk-rock-xmas-market/
LOCATION:MA
CATEGORIES:Arts & Crafts,Holiday,Shopping
END:VEVENT
BEGIN:VEVENT
DTSTART;TZID=America/New_York:20251204T190000
DTEND;TZID=America/New_York:20251204T190000
DTSTAMP:20260421T132148
CREATED:20251105T174658Z
LAST-MODIFIED:20251124T171104Z
UID:10003326-1764874800-1764874800@thelocalseen.media
SUMMARY:It's A Wonderful Life: A Live Radio Play
DESCRIPTION:
URL:https://thelocalseen.media/event/its-a-wonderful-life-a-live-radio-play/
LOCATION:Plymouth Center for the Arts\, 11 North Street\, Plymouth\, MA\, United States
CATEGORIES:Arts and Culture,Holiday
END:VEVENT
BEGIN:VEVENT
DTSTART;TZID=America/New_York:20251206T110000
DTEND;TZID=America/New_York:20251206T150000
DTSTAMP:20260421T132148
CREATED:20251124T172705Z
LAST-MODIFIED:20251124T172705Z
UID:10003377-1765018800-1765033200@thelocalseen.media
SUMMARY:Cozy Winter Artisan Market
DESCRIPTION:
URL:https://thelocalseen.media/event/cozy-winter-artisan-market/
LOCATION:The Cozy Cottage\, 610 Washington St\, Pembroke\, MA\, United States
CATEGORIES:Holiday,Shopping
END:VEVENT
BEGIN:VEVENT
DTSTART;TZID=America/New_York:20251206T130000
DTEND;TZID=America/New_York:20251206T140000
DTSTAMP:20260421T132148
CREATED:20251117T231417Z
LAST-MODIFIED:20251117T231417Z
UID:10003359-1765026000-1765029600@thelocalseen.media
SUMMARY:Burial Hill Tour: Home for the Holidays
DESCRIPTION:
URL:https://thelocalseen.media/event/burial-hill-tour-home-for-the-holidays/
LOCATION:Burial Hill\, 19 Town Square\, Plymouth\, MA\, United States
CATEGORIES:History,Holiday
END:VEVENT
BEGIN:VEVENT
DTSTART;TZID=America/New_York:20251206T190000
DTEND;TZID=America/New_York:20251206T190000
DTSTAMP:20260421T132148
CREATED:20251105T174850Z
LAST-MODIFIED:20251124T171024Z
UID:10003327-1765047600-1765047600@thelocalseen.media
SUMMARY:It's A Wonderful Life: A Live Radio Play
DESCRIPTION:
URL:https://thelocalseen.media/event/its-a-wonderful-life-a-live-radio-play-2/
LOCATION:Plymouth Center for the Arts\, 11 North Street\, Plymouth\, MA\, United States
CATEGORIES:Arts and Culture,Holiday
END:VEVENT
BEGIN:VEVENT
DTSTART;TZID=America/New_York:20251206T193000
DTEND;TZID=America/New_York:20251206T193000
DTSTAMP:20260421T132148
CREATED:20251121T220446Z
LAST-MODIFIED:20251121T220446Z
UID:10003368-1765049400-1765049400@thelocalseen.media
SUMMARY:Pilgrim Festival Chorus Rejoice! Festive Music for the Festive Season
DESCRIPTION:
URL:https://thelocalseen.media/event/pilgrim-festival-chorus-rejoice-festive-music-for-the-festive-season/
LOCATION:Plymouth Church of the Pilgrimage\, 8 Town Square\, Plymouth\, MA\, United States
CATEGORIES:Holiday,Music
END:VEVENT
BEGIN:VEVENT
DTSTART;TZID=America/New_York:20251207T110000
DTEND;TZID=America/New_York:20251207T150000
DTSTAMP:20260421T132148
CREATED:20251124T172744Z
LAST-MODIFIED:20251124T172744Z
UID:10003378-1765105200-1765119600@thelocalseen.media
SUMMARY:Cozy Winter Artisan Market
DESCRIPTION:
URL:https://thelocalseen.media/event/cozy-winter-artisan-market-2/
LOCATION:The Cozy Cottage\, 610 Washington St\, Pembroke\, MA\, United States
CATEGORIES:Holiday,Shopping
END:VEVENT
BEGIN:VEVENT
DTSTART;TZID=America/New_York:20251207T110000
DTEND;TZID=America/New_York:20251207T160000
DTSTAMP:20260421T132148
CREATED:20251124T173304Z
LAST-MODIFIED:20251124T173304Z
UID:10003380-1765105200-1765123200@thelocalseen.media
SUMMARY:Jingle All The Way to the Village Green at The Pinehills
DESCRIPTION:
URL:https://thelocalseen.media/event/jingle-all-the-way-to-the-village-green-at-the-pinehills/
LOCATION:The Pinehills Village Green\, Plymouth\, MA\, United States
CATEGORIES:Holiday
END:VEVENT
BEGIN:VEVENT
DTSTART;TZID=America/New_York:20251207T120000
DTEND;TZID=America/New_York:20251207T120000
DTSTAMP:20260421T132148
CREATED:20251111T152730Z
LAST-MODIFIED:20251111T152754Z
UID:10003335-1765108800-1765108800@thelocalseen.media
SUMMARY:Woburn Recreation 2nd Annual Holiday Party
DESCRIPTION:
URL:https://thelocalseen.media/event/woburn-recreation-2nd-annual-holiday-party/
LOCATION:Spence Farm\, 41 Wyman St\, Woburn\, MA\, 01801\, United States
CATEGORIES:Holiday,Kids
END:VEVENT
BEGIN:VEVENT
DTSTART;TZID=America/New_York:20251207T150000
DTEND;TZID=America/New_York:20251207T150000
DTSTAMP:20260421T132148
CREATED:20251111T152827Z
LAST-MODIFIED:20251111T152827Z
UID:10003336-1765119600-1765119600@thelocalseen.media
SUMMARY:Woburn Recreation 2nd Annual Holiday Party
DESCRIPTION:
URL:https://thelocalseen.media/event/woburn-recreation-2nd-annual-holiday-party-2/
LOCATION:Spence Farm\, 41 Wyman St\, Woburn\, MA\, 01801\, United States
CATEGORIES:Holiday,Kids
END:VEVENT
BEGIN:VEVENT
DTSTART;TZID=America/New_York:20251208T190000
DTEND;TZID=America/New_York:20251208T190000
DTSTAMP:20260421T132148
CREATED:20251105T174927Z
LAST-MODIFIED:20251124T170950Z
UID:10003328-1765220400-1765220400@thelocalseen.media
SUMMARY:It's A Wonderful Life: A Live Radio Play
DESCRIPTION:
URL:https://thelocalseen.media/event/its-a-wonderful-life-a-live-radio-play-3/
LOCATION:Plymouth Center for the Arts\, 11 North Street\, Plymouth\, MA\, United States
CATEGORIES:Arts and Culture,Holiday
END:VEVENT
BEGIN:VEVENT
DTSTART;TZID=America/New_York:20251209T190000
DTEND;TZID=America/New_York:20251209T190000
DTSTAMP:20260421T132148
CREATED:20251105T175005Z
LAST-MODIFIED:20251124T170911Z
UID:10003329-1765306800-1765306800@thelocalseen.media
SUMMARY:It's A Wonderful Life: A Live Radio Play
DESCRIPTION:
URL:https://thelocalseen.media/event/its-a-wonderful-life-a-live-radio-play-4/
LOCATION:Plymouth Center for the Arts\, 11 North Street\, Plymouth\, MA\, United States
CATEGORIES:Arts and Culture,Holiday
END:VEVENT
BEGIN:VEVENT
DTSTART;TZID=America/New_York:20251210T190000
DTEND;TZID=America/New_York:20251210T190000
DTSTAMP:20260421T132148
CREATED:20251105T175039Z
LAST-MODIFIED:20251124T170836Z
UID:10003330-1765393200-1765393200@thelocalseen.media
SUMMARY:It's A Wonderful Life: A Live Radio Play
DESCRIPTION:
URL:https://thelocalseen.media/event/its-a-wonderful-life-a-live-radio-play-5/
LOCATION:Plymouth Center for the Arts\, 11 North Street\, Plymouth\, MA\, United States
CATEGORIES:Arts and Culture,Holiday
END:VEVENT
BEGIN:VEVENT
DTSTART;TZID=America/New_York:20251211T120000
DTEND;TZID=America/New_York:20251211T130000
DTSTAMP:20260421T132148
CREATED:20251209T212450Z
LAST-MODIFIED:20251209T212450Z
UID:10003427-1765454400-1765458000@thelocalseen.media
SUMMARY:Lunch & Learn: The First New England Christmas at Plimoth Patuxet
DESCRIPTION:What Christmas traditions did Plymouth Colonists bring with them from England? Join Director of Colonial Interpretation & Training Malka Benjamin to explore the diversity of Christmas traditions that were carried to Plymouth Colony. \nSpeaker Bio: Malka Benjamin has over 30 years of experience working in public history and is the Director of Colonial Interpretation & Training at Plimoth Patuxet Museums. In this role she is responsible for training and mentoring the Museum’s public facing staff and working with the Education & Public Engagement team to develop fun and educational guest experiences across the Museum’s living history sites. She loves using stories\, crafted from primary sources\, along with the Museum’s dynamic recreated historic environments\, to bring the world of the 17th Century to life\, and loves helping other staff learn to do the same. Prior to coming to Plimoth Patuxet\, Ms. Benjamin worked for the National Park Service and at Touro Synagogue National Historic Site in Newport\, RI. She holds a B.A. from Cornell University in archaeology\, anthropology\, and American Indian studies. \nIn-person and online tickets available. Free! Register Here or on the Event Website.\nThis program is supported in part by a grant from the Plymouth Cultural Council\, a local agency which is supported by the Mass Cultural Council\, a state agency.
URL:https://thelocalseen.media/event/lunch-learn-the-first-new-england-christmas-at-plimoth-patuxet/
LOCATION:MA
CATEGORIES:History,Holiday
END:VEVENT
BEGIN:VEVENT
DTSTART;TZID=America/New_York:20251211T190000
DTEND;TZID=America/New_York:20251211T190000
DTSTAMP:20260421T132148
CREATED:20251105T175051Z
LAST-MODIFIED:20251124T170734Z
UID:10003331-1765479600-1765479600@thelocalseen.media
SUMMARY:It's A Wonderful Life: A Live Radio Play
DESCRIPTION:
URL:https://thelocalseen.media/event/its-a-wonderful-life-a-live-radio-play-6/
LOCATION:Plymouth Center for the Arts\, 11 North Street\, Plymouth\, MA\, United States
CATEGORIES:Arts and Culture,Holiday
END:VEVENT
BEGIN:VEVENT
DTSTART;TZID=America/New_York:20251212T190000
DTEND;TZID=America/New_York:20251212T190000
DTSTAMP:20260421T132148
CREATED:20251105T175125Z
LAST-MODIFIED:20251124T170702Z
UID:10003332-1765566000-1765566000@thelocalseen.media
SUMMARY:It's A Wonderful Life: A Live Radio Play
DESCRIPTION:
URL:https://thelocalseen.media/event/its-a-wonderful-life-a-live-radio-play-7/
LOCATION:Plymouth Center for the Arts\, 11 North Street\, Plymouth\, MA\, United States
CATEGORIES:Arts and Culture,Holiday
END:VEVENT
END:VCALENDAR