BEGIN:VCALENDAR
VERSION:2.0
PRODID:-//The Local Seen - ECPv6.6.4.2//NONSGML v1.0//EN
CALSCALE:GREGORIAN
METHOD:PUBLISH
X-WR-CALNAME:The Local Seen
X-ORIGINAL-URL:https://thelocalseen.media
X-WR-CALDESC:Events for The Local Seen
REFRESH-INTERVAL;VALUE=DURATION:PT1H
X-Robots-Tag:noindex
X-PUBLISHED-TTL:PT1H
BEGIN:VTIMEZONE
TZID:America/New_York
BEGIN:DAYLIGHT
TZOFFSETFROM:-0500
TZOFFSETTO:-0400
TZNAME:EDT
DTSTART:20260308T070000
END:DAYLIGHT
BEGIN:STANDARD
TZOFFSETFROM:-0400
TZOFFSETTO:-0500
TZNAME:EST
DTSTART:20261101T060000
END:STANDARD
END:VTIMEZONE
BEGIN:VEVENT
DTSTART;TZID=America/New_York:20260423T130000
DTEND;TZID=America/New_York:20260423T140000
DTSTAMP:20260423T013252
CREATED:20260325T192543Z
LAST-MODIFIED:20260325T192543Z
UID:10003586-1776949200-1776952800@thelocalseen.media
SUMMARY:Frozen Frogs\, Fairy Shrimp and Jellied Eggs Vernal Pool Exploration at Tidmarsh Wildlife Sanctuary
DESCRIPTION:
URL:https://thelocalseen.media/event/frozen-frogs-fairy-shrimp-and-jellied-eggs-vernal-pool-exploration-at-tidmarsh-wildlife-sanctuary/
LOCATION:Tidmarsh Wildlife Sanctuary\, 60 Beaver Dam Road\, Plymouth\, MA\, United States
CATEGORIES:Nature & Outdoors
END:VEVENT
BEGIN:VEVENT
DTSTART;TZID=America/New_York:20260423T180000
DTEND;TZID=America/New_York:20260423T180000
DTSTAMP:20260423T013252
CREATED:20260401T165455Z
LAST-MODIFIED:20260401T165455Z
UID:10003600-1776967200-1776967200@thelocalseen.media
SUMMARY:Author Mark Ciccone at Art Complex Museum
DESCRIPTION:Click here for more info! 
URL:https://thelocalseen.media/event/author-mark-ciccone-at-art-complex-museum/
LOCATION:Art Complex Museum\, 189 Alden St\, Duxbury
CATEGORIES:Arts and Culture,Literary
END:VEVENT
BEGIN:VEVENT
DTSTART;TZID=America/New_York:20260423T183000
DTEND;TZID=America/New_York:20260423T193000
DTSTAMP:20260423T013252
CREATED:20260420T220731Z
LAST-MODIFIED:20260420T220731Z
UID:10003644-1776969000-1776972600@thelocalseen.media
SUMMARY:Rebecca Road: An Author Talk with Mary Ford
DESCRIPTION:
URL:https://thelocalseen.media/event/rebecca-road-an-author-talk-with-mary-ford/
LOCATION:Pembroke Public Library\, 142 Center St\, Pembroke\, MA\, 02359\, United States
CATEGORIES:Literary
END:VEVENT
END:VCALENDAR