BEGIN:VCALENDAR
VERSION:2.0
PRODID:-//The Local Seen - ECPv6.6.4.2//NONSGML v1.0//EN
CALSCALE:GREGORIAN
METHOD:PUBLISH
X-WR-CALNAME:The Local Seen
X-ORIGINAL-URL:https://thelocalseen.media
X-WR-CALDESC:Events for The Local Seen
REFRESH-INTERVAL;VALUE=DURATION:PT1H
X-Robots-Tag:noindex
X-PUBLISHED-TTL:PT1H
BEGIN:VTIMEZONE
TZID:America/New_York
BEGIN:DAYLIGHT
TZOFFSETFROM:-0500
TZOFFSETTO:-0400
TZNAME:EDT
DTSTART:20260308T070000
END:DAYLIGHT
BEGIN:STANDARD
TZOFFSETFROM:-0400
TZOFFSETTO:-0500
TZNAME:EST
DTSTART:20261101T060000
END:STANDARD
END:VTIMEZONE
BEGIN:VEVENT
DTSTART;TZID=America/New_York:20260420T103000
DTEND;TZID=America/New_York:20260420T103000
DTSTAMP:20260420T013700
CREATED:20260325T194000Z
LAST-MODIFIED:20260325T194426Z
UID:10003588-1776681000-1776681000@thelocalseen.media
SUMMARY:Patriots Day Cemetery Tour by Duxbury Rural & Historical Society at Mayflower Cemetery
DESCRIPTION:
URL:https://thelocalseen.media/event/patriots-day-cemetery-tour-by-duxbury-rural-historical-society/
LOCATION:Mayflower Cemetery\, 774 Tremont Street\, Duxbury\, MA\, United States
CATEGORIES:History
END:VEVENT
BEGIN:VEVENT
DTSTART;TZID=America/New_York:20260420T183000
DTEND;TZID=America/New_York:20260420T200000
DTSTAMP:20260420T013700
CREATED:20260127T231943Z
LAST-MODIFIED:20260127T231943Z
UID:10003506-1776709800-1776715200@thelocalseen.media
SUMMARY:Magic the Gathering at The Plymouth Public Library
DESCRIPTION:
URL:https://thelocalseen.media/event/magic-the-gathering-at-the-plymouth-public-library-6/
LOCATION:Plymouth Public Library\, 132 South St\, Plymouth\, 02360\, United States
CATEGORIES:Kids
END:VEVENT
END:VCALENDAR