BEGIN:VCALENDAR
VERSION:2.0
PRODID:-//The Local Seen - ECPv6.6.4.2//NONSGML v1.0//EN
CALSCALE:GREGORIAN
METHOD:PUBLISH
X-WR-CALNAME:The Local Seen
X-ORIGINAL-URL:https://thelocalseen.media
X-WR-CALDESC:Events for The Local Seen
REFRESH-INTERVAL;VALUE=DURATION:PT1H
X-Robots-Tag:noindex
X-PUBLISHED-TTL:PT1H
BEGIN:VTIMEZONE
TZID:America/New_York
BEGIN:DAYLIGHT
TZOFFSETFROM:-0500
TZOFFSETTO:-0400
TZNAME:EDT
DTSTART:20260308T070000
END:DAYLIGHT
BEGIN:STANDARD
TZOFFSETFROM:-0400
TZOFFSETTO:-0500
TZNAME:EST
DTSTART:20261101T060000
END:STANDARD
END:VTIMEZONE
BEGIN:VEVENT
DTSTART;TZID=America/New_York:20260203T100000
DTEND;TZID=America/New_York:20260203T124500
DTSTAMP:20260419T154935
CREATED:20260120T211825Z
LAST-MODIFIED:20260120T212551Z
UID:10003475-1770112800-1770122700@thelocalseen.media
SUMMARY:Inclusive Connections at the Duxbury Free Library
DESCRIPTION:
URL:https://thelocalseen.media/event/inclusive-connections-at-the-duxbury-free-library/
LOCATION:Duxbury Free Library\, 77 Alden St\, Duxbury\, MA\, MA\, 02332\, United States
CATEGORIES:Community
END:VEVENT
BEGIN:VEVENT
DTSTART;TZID=America/New_York:20260203T120000
DTEND;TZID=America/New_York:20260203T120000
DTSTAMP:20260419T154935
CREATED:20260120T202415Z
LAST-MODIFIED:20260120T202525Z
UID:10003471-1770120000-1770120000@thelocalseen.media
SUMMARY:Virtual Workshop: Free-Flow Journaling via The Duxbury Free Library
DESCRIPTION:
URL:https://thelocalseen.media/event/virtual-workshop-free-flow-journaling-via-the-duxbury-free-library/
LOCATION:Duxbury Free Library\, 77 Alden St\, Duxbury\, MA\, MA\, 02332\, United States
CATEGORIES:Arts & Crafts,Virtual
END:VEVENT
BEGIN:VEVENT
DTSTART;TZID=America/New_York:20260203T150000
DTEND;TZID=America/New_York:20260203T170000
DTSTAMP:20260419T154935
CREATED:20260112T231824Z
LAST-MODIFIED:20260112T231825Z
UID:10003393-1770130800-1770138000@thelocalseen.media
SUMMARY:Study Buddies at The Kingston Public Library
DESCRIPTION:
URL:https://thelocalseen.media/event/study-buddies-at-the-kingston-public-library-2/2026-02-03/
LOCATION:Kingston Public Library\, 6 Green Street\, Kingston\, MA\, 02364\, United States
CATEGORIES:Community,Kids
END:VEVENT
BEGIN:VEVENT
DTSTART;TZID=America/New_York:20260203T183000
DTEND;TZID=America/New_York:20260203T183000
DTSTAMP:20260419T154936
CREATED:20260120T210119Z
LAST-MODIFIED:20260120T210119Z
UID:10003474-1770143400-1770143400@thelocalseen.media
SUMMARY:Pembroke Public Library Book Club - Good Dirt
DESCRIPTION:
URL:https://thelocalseen.media/event/pembroke-public-library-book-club-good-dirt/
LOCATION:Pembroke Public Library\, 142 Center St\, Pembroke\, MA\, 02359\, United States
CATEGORIES:Arts and Culture,Literary
END:VEVENT
BEGIN:VEVENT
DTSTART;TZID=America/New_York:20260203T183000
DTEND;TZID=America/New_York:20260203T200000
DTSTAMP:20260419T154936
CREATED:20260102T175044Z
LAST-MODIFIED:20260102T175044Z
UID:10003436-1770143400-1770148800@thelocalseen.media
SUMMARY:Plymouth Pride First Tuesdays
DESCRIPTION:
URL:https://thelocalseen.media/event/plymouth-pride-first-tuesdays-2/
LOCATION:Plymouth Public Library\, 132 South St\, Plymouth\, 02360\, United States
CATEGORIES:LGBTQ
END:VEVENT
BEGIN:VEVENT
DTSTART;TZID=America/New_York:20260203T190000
DTEND;TZID=America/New_York:20260203T210000
DTSTAMP:20260419T154936
CREATED:20260127T212536Z
LAST-MODIFIED:20260127T212824Z
UID:10003485-1770145200-1770152400@thelocalseen.media
SUMMARY:Inebri-Art Figure Drawing at Vitamin Sea Brewing
DESCRIPTION:
URL:https://thelocalseen.media/event/inebri-art-figure-drawing-at-vitamin-sea-brewing-2/
LOCATION:Vitamin Sea Brewing\, Plymouth\, MA\, United States
CATEGORIES:Arts & Crafts
END:VEVENT
END:VCALENDAR