BEGIN:VCALENDAR
VERSION:2.0
PRODID:-//The Local Seen - ECPv6.6.4.2//NONSGML v1.0//EN
CALSCALE:GREGORIAN
METHOD:PUBLISH
X-WR-CALNAME:The Local Seen
X-ORIGINAL-URL:https://thelocalseen.media
X-WR-CALDESC:Events for The Local Seen
REFRESH-INTERVAL;VALUE=DURATION:PT1H
X-Robots-Tag:noindex
X-PUBLISHED-TTL:PT1H
BEGIN:VTIMEZONE
TZID:America/New_York
BEGIN:DAYLIGHT
TZOFFSETFROM:-0500
TZOFFSETTO:-0400
TZNAME:EDT
DTSTART:20250309T070000
END:DAYLIGHT
BEGIN:STANDARD
TZOFFSETFROM:-0400
TZOFFSETTO:-0500
TZNAME:EST
DTSTART:20251102T060000
END:STANDARD
END:VTIMEZONE
BEGIN:VEVENT
DTSTART;TZID=America/New_York:20250710T163000
DTEND;TZID=America/New_York:20250710T200000
DTSTAMP:20260420T033721
CREATED:20250507T003134Z
LAST-MODIFIED:20250507T003335Z
UID:10001040-1752165000-1752177600@thelocalseen.media
SUMMARY:South Shore Food Truck Association Food Truck Thursday in Kingston
DESCRIPTION:
URL:https://thelocalseen.media/event/south-shore-food-truck-association-food-truck-thursday-in-kingston/2025-07-10/
LOCATION:Hilltop Athletic Association\, 65 Pottle St\, Kingston\, MA
CATEGORIES:Food,Music
END:VEVENT
BEGIN:VEVENT
DTSTART;TZID=America/New_York:20250710T190000
DTEND;TZID=America/New_York:20250710T190000
DTSTAMP:20260420T033721
CREATED:20250610T030107Z
LAST-MODIFIED:20250610T030107Z
UID:10002120-1752174000-1752174000@thelocalseen.media
SUMMARY:Peter and the Starcatcher by American Theater Company at Spire Center
DESCRIPTION:
URL:https://thelocalseen.media/event/peter-and-the-starcatcher-by-american-theater-company-at-spire-center-2/
LOCATION:Spire Center for Performing Arts\, 25 1/2 Court Street\, Plymouth\, MA\, 02360\, United States
CATEGORIES:Arts and Culture
END:VEVENT
END:VCALENDAR