BEGIN:VCALENDAR
VERSION:2.0
PRODID:-//The Local Seen - ECPv6.6.4.2//NONSGML v1.0//EN
CALSCALE:GREGORIAN
METHOD:PUBLISH
X-WR-CALNAME:The Local Seen
X-ORIGINAL-URL:https://thelocalseen.media
X-WR-CALDESC:Events for The Local Seen
REFRESH-INTERVAL;VALUE=DURATION:PT1H
X-Robots-Tag:noindex
X-PUBLISHED-TTL:PT1H
BEGIN:VTIMEZONE
TZID:America/New_York
BEGIN:DAYLIGHT
TZOFFSETFROM:-0500
TZOFFSETTO:-0400
TZNAME:EDT
DTSTART:20240310T070000
END:DAYLIGHT
BEGIN:STANDARD
TZOFFSETFROM:-0400
TZOFFSETTO:-0500
TZNAME:EST
DTSTART:20241103T060000
END:STANDARD
END:VTIMEZONE
BEGIN:VEVENT
DTSTART;TZID=America/New_York:20240621T100000
DTEND;TZID=America/New_York:20240621T170000
DTSTAMP:20260421T004918
CREATED:20240603T191727Z
LAST-MODIFIED:20240603T191727Z
UID:10000005-1718964000-1718989200@thelocalseen.media
SUMMARY:PSA Day June 21\, 2024 - Free PSAs for Nonprofits!
DESCRIPTION:Are you a nonprofit on the South Shore with a mission or event you’d like to highlight? We’ll produce a 30-90 second PSA for you free of charge\, and it will take less than thirty minutes of your time in our studio!  Email community@thelocalseen.media to learn more and get your time slot for June 21st!
URL:https://thelocalseen.media/event/psa-day-june-21-2024-free-psas-for-nonprofits/
LOCATION:The Local Seen Studio A\, 4 Collins Ave\, Suite B\, Plymouth\, 02360\, United States
CATEGORIES:Community
ORGANIZER;CN="The Local Seen":MAILTO:community@thelocalseen.media
END:VEVENT
END:VCALENDAR